BEGIN:VCALENDAR
VERSION:2.0
PRODID:-//eventon.com NONSGML v1.0//EN
CALSCALE:GREGORIAN
METHOD:PUBLISH
BEGIN:VEVENT
UID:69e9dc96720ee
DTSTAMP:20260423T084718Z
DTSTART:20260523
DTEND:20260524
LOCATION:
SUMMARY:Pompano Beach Weekend Trip
DESCRIPTION:More info on the trip&#8230; Click Here! Need the Advanced Open
 water class?.. Click Here! &nbsp;\nhttps://captpetes.com/events/pompano-bea
 ch-weekend-trip-16/
URL:https://captpetes.com/events/pompano-beach-weekend-trip-16/
END:VEVENT
END:VCALENDAR