BEGIN:VCALENDAR
VERSION:2.0
PRODID:-//eventon.com NONSGML v1.0//EN
CALSCALE:GREGORIAN
METHOD:PUBLISH
BEGIN:VEVENT
UID:69e9d7e53c7d6
DTSTAMP:20260423T082717Z
DTSTART:20260808
DTEND:20260809
LOCATION:
SUMMARY:Pompano Beach Weekend Trip!  Lobsters!
DESCRIPTION:More Info\,  Click Here! &nbsp;\nhttps://captpetes.com/events/p
 ompano-beach-weekend-trip-lobsters-4/
URL:https://captpetes.com/events/pompano-beach-weekend-trip-lobsters-4/
END:VEVENT
END:VCALENDAR