BEGIN:VCALENDAR
VERSION:2.0
PRODID:-//eventon.com NONSGML v1.0//EN
CALSCALE:GREGORIAN
METHOD:PUBLISH
BEGIN:VEVENT
UID:69e9ec38d76bf
DTSTAMP:20260423T095400Z
DTSTART:20261121
DTEND:20261122
LOCATION:
SUMMARY:Cozumel Mexico Dive Vacation!
DESCRIPTION:More Info\,  Click Here!\nhttps://captpetes.com/events/cozumel-
 mexico-dive-vacation/
URL:https://captpetes.com/events/cozumel-mexico-dive-vacation/
END:VEVENT
END:VCALENDAR