BEGIN:VCALENDAR
VERSION:2.0
PRODID:-//eventon.com NONSGML v1.0//EN
CALSCALE:GREGORIAN
METHOD:PUBLISH
BEGIN:VEVENT
UID:69e9d7fa4f280
DTSTAMP:20260423T082738Z
DTSTART:20260616
DTEND:20260617
LOCATION:
SUMMARY:Portugal SCUBA Vacation!
DESCRIPTION:More Info\,  Click Here!\nhttps://captpetes.com/events/portugal
 -scuba-vacation/
URL:https://captpetes.com/events/portugal-scuba-vacation/
END:VEVENT
END:VCALENDAR